BEGIN:VCALENDAR
VERSION:2.0
PRODID:-//Debates &amp; Discursos - ECPv6.15.11//NONSGML v1.0//EN
CALSCALE:GREGORIAN
METHOD:PUBLISH
X-WR-CALNAME:Debates &amp; Discursos
X-ORIGINAL-URL:https://debatesediscursos.pt
X-WR-CALDESC:Eventos para Debates &amp; Discursos
REFRESH-INTERVAL;VALUE=DURATION:PT1H
X-Robots-Tag:noindex
X-PUBLISHED-TTL:PT1H
BEGIN:VTIMEZONE
TZID:UTC
BEGIN:STANDARD
TZOFFSETFROM:+0000
TZOFFSETTO:+0000
TZNAME:UTC
DTSTART:20240101T000000
END:STANDARD
END:VTIMEZONE
BEGIN:VEVENT
DTSTART;VALUE=DATE:20251119
DTEND;VALUE=DATE:20251120
DTSTAMP:20260419T174534
CREATED:20240912T084035Z
LAST-MODIFIED:20251030T184425Z
UID:52304-1763510400-1763596799@debatesediscursos.pt
SUMMARY:XII CONGRESSO NACIONAL DO NOVO REGIME DO ARRENDAMENTO URBANO (NRAU)
DESCRIPTION:V CONGRESSO DO DIREITO DO CONSUMIDOR				\n				\n				\n				\n					Veja todo o Vídeo				\n				\n				\n				\n							\n					\n						\n				\n				\n				\n							\n			\n		\n						\n				\n					\n		\n					\n		\n				\n						\n					\n			\n						\n				\n																														\n				\n					\n		\n				\n			\n						\n				\n					Dia 16 de Março				\n				\n				\n				\n																														\n				\n				\n				\n							\n			\n		\n						\n				\n				\n				\n					Clique abaixo e decarregue Todo o Vídeo em Bruto e as Apresentações				\n				\n				\n				\n							\n			\n		\n						\n				\n				\n						\n					\n			\n						\n				\n					CLIQUE AQUI PARA DECARREGAR O VÍDEO PARA O SEU COMPUTADOR				\n				\n					\n		\n				\n			\n						\n				\n					CLIQUE AQUI PARA DESCARREGAR TODAS AS APRESENTAÇÕES				\n				\n					\n		\n					\n		\n				\n				\n							\n			\n		\n						\n				\n				\n						\n					\n			\n							\n		\n				\n			\n							\n		\n					\n		\n					\n		\n					\n		\n				\n						\n					\n			\n						\n				\n							\n			\n		\n						\n				\n					\n		\n					\n		\n				\n						\n					\n			\n						\n				\n					\n	\n		\n\n	\n	Adicionar ao calendário	\n		\n	\n\n		\n			\n									\n	Calendário Google\n\n									\n	iCalendar\n\n									\n	Outlook 365\n\n									\n	Outlook Live\n\n							\n		\n\n		\n	\n\n				\n				\n					\n		\n					\n		\n				\n						\n					\n			\n						\n				\n									Data								\n				\n					\n		\n				\n			\n						\n				\n									Organizadores								\n				\n					\n		\n				\n			\n						\n				\n									Local								\n				\n					\n		\n					\n		\n				\n						\n					\n			\n						\n				\n					\n		\n			16/03/2026\n\n	\n\n	  |  \n\n\n9:30\n\n		\n\n\n\n	\n	  -  \n\n17:00\n\n\n\n	 \n				\n				\n				\n				\n					\nGratuito 				\n				\n					\n		\n				\n			\n						\n				\n					\n	\n	Debates & Discursos\, Lda \n	\n\n				\n				\n					\n		\n				\n			\n						\n				\n					\n				\n				\n	\n	Plataforma ZOOM \n	\n	\n\n\n\n\n\n\n\n\n\n\n	\n	Telefone:
URL:https://debatesediscursos.pt/evento/xiicongressonrau2025/
LOCATION:HÍBRIDA
CATEGORIES:Congressos
ORGANIZER;CN="Debates & Discursos%2C Lda":MAILTO:info@debatesediscursos.pt
END:VEVENT
END:VCALENDAR