BEGIN:VCALENDAR
VERSION:2.0
PRODID:-//Debates &amp; Discursos - ECPv6.15.11//NONSGML v1.0//EN
CALSCALE:GREGORIAN
METHOD:PUBLISH
X-ORIGINAL-URL:https://debatesediscursos.pt
X-WR-CALDESC:Eventos para Debates &amp; Discursos
REFRESH-INTERVAL;VALUE=DURATION:PT1H
X-Robots-Tag:noindex
X-PUBLISHED-TTL:PT1H
BEGIN:VTIMEZONE
TZID:UTC
BEGIN:STANDARD
TZOFFSETFROM:+0000
TZOFFSETTO:+0000
TZNAME:UTC
DTSTART:20250101T000000
END:STANDARD
END:VTIMEZONE
BEGIN:VEVENT
DTSTART;TZID=UTC:20260306T100000
DTEND;TZID=UTC:20260529T123000
DTSTAMP:20260421T112452
CREATED:20241104T192306Z
LAST-MODIFIED:20260212T192643Z
UID:52728-1772791200-1780057800@debatesediscursos.pt
SUMMARY:CURSO EXECUTIVO - IMOBILIÁRIO DE A a Z
DESCRIPTION:CURSO EXECUTIVO EMPRESARIAL DE A a Z				\n				\n				\n				\n					ESTRUTURAS\, INVESTIMENTO E RECUPERAÇÃO				\n				\n				\n				\n					5 SESSÕES | DAS 10H00 ÀS 12H30 | 12H30min CARGA HORÁRIA				\n				\n				\n				\n					POSSIBILIDADE DE INSCRIÇÃO POR SESSÕES				\n				\n				\n				\n					DE 15 a 26 JUNHO -  VIA ZOOM 				\n				\n					\n		\n					\n		\n				\n						\n					\n			\n						\n				\n									\n					\n						\n									PROGRAMA COMPLETO\n					\n					\n				\n								\n				\n				\n				\n									\n					\n						\n									INSCRIÇÃO IMEDIATA\n					\n					\n				\n								\n				\n					\n		\n				\n			\n						\n				\n									\n					\n						\n									INSCRIÇÃO (PDF)\n					\n					\n				\n								\n				\n				\n				\n									\n					\n						\n									INSCRIÇÃO (WORD)\n					\n					\n				\n								\n				\n					\n		\n					\n		\n				\n						\n					\n			\n						\n				\n																														\n				\n				\n				\n																														\n				\n				\n						\n					\n			\n						\n				\n									 5 SESSÕESde 15 a 26 de JUNHO 								\n				\n					\n		\n				\n			\n						\n				\n									DAS 10H00 ÀS 12H3012H30min CARGA HORÁRIA 								\n				\n					\n		\n					\n		\n					\n		\n				\n			\n						\n				\n					Veja um Pequeno Vídeo de Apresentação				\n				\n				\n				\n							\n					\n						\n				\n				\n				\n							\n			\n		\n						\n				\n				\n				\n									ESTRUTURA TEMÁTICA 								\n				\n				\n				\n									FORMATO 5 sessões | 2h30min | 12h30min Carga Horária10h00 – 12h30Formato: Online (Zoom)								\n				\n				\n				\n									OBJETIVOS O curso visa proporcionar uma visão integrada\, prática e estratégica do ciclo de vida da empresa\, capacitando os participantes para: Estruturar juridicamente negócios e investimentosTomar decisões estratégicas em operações empresariaisIdentificar e mitigar riscos jurídicos\, financeiros e reputacionaisCompreender operações de aquisição\, financiamento e reorganizaçãoAtuar eficazmente em contextos de crise e recuperação empresarial                                                Foco central: tomada de decisão informada em contexto real de negócio								\n				\n				\n				\n									METODOLOGIA O programa assenta no método do caso\, através de: apresentação de situações reaisidentificação de riscos críticosanálise de cenários alternativosdiscussão orientadaEnfoque decisório:“Criar ou adquirir?”“Estruturar capital ou dívida?”“Recuperar ou liquidar?”								\n				\n				\n				\n									DESTINATÁRIOS Empresários e gestoresDirigentes e técnicos superioresInvestidoresConsultores empresariaisProfissionais das áreas financeira e fiscal								\n				\n				\n				\n									DIFERENCIAL DO PROGRAMA Abordagem integrada (jurídico + financeiro + fiscal) Estrutura lógica: criação → investimento → crescimento → crise Casos práticos com decisões reais Foco no risco empresarial e na responsabilidade dos decisores 								\n				\n				\n				\n							\n			\n		\n						\n				\n					\n		\n					\n		\n				\n						\n					\n			\n							\n		\n					\n		\n				\n						\n					\n			\n						\n				\n							\n			\n		\n						\n				\n				\n				\n					\n	\n		\n\n	\n	Adicionar ao calendário	\n		\n	\n\n		\n			\n									\n	Calendário Google\n\n									\n	iCalendar\n\n									\n	Outlook 365\n\n									\n	Outlook Live\n\n							\n		\n\n		\n	\n\n				\n				\n					\n		\n					\n		\n				\n						\n					\n			\n						\n				\n									Detalhes								\n				\n					\n		\n				\n			\n						\n				\n									Organizadores								\n				\n					\n		\n				\n			\n						\n				\n									Local								\n				\n					\n		\n					\n		\n				\n						\n					\n			\n						\n				\n							\n			\n		\n						\n				\n					\n		\n					\n		\n				\n						\n					\n			\n						\n				\n					\n	\n	Data & Hora:	\n			15/06/2026\n\n	\n\n	  |  \n\n\n10:00\n\n	\n\n		\n	\n	  -  \n\n	26/06/2026\n\n	\n\n	  |  \n\n\n12:30\n\n\n\n	 \n				\n				\n					\n		\n				\n			\n						\n				\n					\n	\n	Debates & Discursos\, Lda \n	RSA-LP Law firm \n				\n				\n					\n		\n				\n			\n						\n				\n					\n				\n				\n	\n	Plataforma ZOOM
URL:https://debatesediscursos.pt/evento/2edicaocursoexecutivoimobiliariodeaaz/
LOCATION:Plataforma ZOOM
CATEGORIES:Formações
ATTACH;FMTTYPE=image/jpeg:https://debatesediscursos.pt/wp-content/uploads/2026/01/Curso-Executivo-Imo-.jpg
ORGANIZER;CN="Debates & Discursos%2C Lda":MAILTO:info@debatesediscursos.pt
END:VEVENT
BEGIN:VEVENT
DTSTART;TZID=UTC:20260506T143000
DTEND;TZID=UTC:20260506T180000
DTSTAMP:20260421T112453
CREATED:20250109T182750Z
LAST-MODIFIED:20260420T105436Z
UID:53022-1778077800-1778090400@debatesediscursos.pt
SUMMARY:NOVAS MEDIDAS LEGISLATIVAS PARA A HABITAÇÃO
DESCRIPTION:CURSO EXECUTIVO EMPRESARIAL DE A a Z				\n				\n				\n				\n					ESTRUTURAS\, INVESTIMENTO E RECUPERAÇÃO				\n				\n				\n				\n					5 SESSÕES | DAS 10H00 ÀS 12H30 | 12H30min CARGA HORÁRIA				\n				\n				\n				\n					POSSIBILIDADE DE INSCRIÇÃO POR SESSÕES				\n				\n				\n				\n					DE 15 a 26 JUNHO -  VIA ZOOM 				\n				\n					\n		\n					\n		\n				\n						\n					\n			\n						\n				\n									\n					\n						\n									PROGRAMA COMPLETO\n					\n					\n				\n								\n				\n				\n				\n									\n					\n						\n									INSCRIÇÃO IMEDIATA\n					\n					\n				\n								\n				\n					\n		\n				\n			\n						\n				\n									\n					\n						\n									INSCRIÇÃO (PDF)\n					\n					\n				\n								\n				\n				\n				\n									\n					\n						\n									INSCRIÇÃO (WORD)\n					\n					\n				\n								\n				\n					\n		\n					\n		\n				\n						\n					\n			\n						\n				\n																														\n				\n				\n				\n																														\n				\n				\n						\n					\n			\n						\n				\n									 5 SESSÕESde 15 a 26 de JUNHO 								\n				\n					\n		\n				\n			\n						\n				\n									DAS 10H00 ÀS 12H3012H30min CARGA HORÁRIA 								\n				\n					\n		\n					\n		\n					\n		\n				\n			\n						\n				\n					Veja um Pequeno Vídeo de Apresentação				\n				\n				\n				\n							\n					\n						\n				\n				\n				\n							\n			\n		\n						\n				\n				\n				\n									ESTRUTURA TEMÁTICA 								\n				\n				\n				\n									FORMATO 5 sessões | 2h30min | 12h30min Carga Horária10h00 – 12h30Formato: Online (Zoom)								\n				\n				\n				\n									OBJETIVOS O curso visa proporcionar uma visão integrada\, prática e estratégica do ciclo de vida da empresa\, capacitando os participantes para: Estruturar juridicamente negócios e investimentosTomar decisões estratégicas em operações empresariaisIdentificar e mitigar riscos jurídicos\, financeiros e reputacionaisCompreender operações de aquisição\, financiamento e reorganizaçãoAtuar eficazmente em contextos de crise e recuperação empresarial                                                Foco central: tomada de decisão informada em contexto real de negócio								\n				\n				\n				\n									METODOLOGIA O programa assenta no método do caso\, através de: apresentação de situações reaisidentificação de riscos críticosanálise de cenários alternativosdiscussão orientadaEnfoque decisório:“Criar ou adquirir?”“Estruturar capital ou dívida?”“Recuperar ou liquidar?”								\n				\n				\n				\n									DESTINATÁRIOS Empresários e gestoresDirigentes e técnicos superioresInvestidoresConsultores empresariaisProfissionais das áreas financeira e fiscal								\n				\n				\n				\n									DIFERENCIAL DO PROGRAMA Abordagem integrada (jurídico + financeiro + fiscal) Estrutura lógica: criação → investimento → crescimento → crise Casos práticos com decisões reais Foco no risco empresarial e na responsabilidade dos decisores 								\n				\n				\n				\n							\n			\n		\n						\n				\n					\n		\n					\n		\n				\n						\n					\n			\n							\n		\n					\n		\n				\n						\n					\n			\n						\n				\n							\n			\n		\n						\n				\n				\n				\n					\n	\n		\n\n	\n	Adicionar ao calendário	\n		\n	\n\n		\n			\n									\n	Calendário Google\n\n									\n	iCalendar\n\n									\n	Outlook 365\n\n									\n	Outlook Live\n\n							\n		\n\n		\n	\n\n				\n				\n					\n		\n					\n		\n				\n						\n					\n			\n						\n				\n									Detalhes								\n				\n					\n		\n				\n			\n						\n				\n									Organizadores								\n				\n					\n		\n				\n			\n						\n				\n									Local								\n				\n					\n		\n					\n		\n				\n						\n					\n			\n						\n				\n							\n			\n		\n						\n				\n					\n		\n					\n		\n				\n						\n					\n			\n						\n				\n					\n	\n	Data & Hora:	\n			15/06/2026\n\n	\n\n	  |  \n\n\n10:00\n\n	\n\n		\n	\n	  -  \n\n	26/06/2026\n\n	\n\n	  |  \n\n\n12:30\n\n\n\n	 \n				\n				\n					\n		\n				\n			\n						\n				\n					\n	\n	Debates & Discursos\, Lda \n	RSA-LP Law firm \n				\n				\n					\n		\n				\n			\n						\n				\n					\n				\n				\n	\n	Plataforma ZOOM
URL:https://debatesediscursos.pt/evento/novas-medidas-legislativas-para-a-habitacao/
LOCATION:Plataforma ZOOM
CATEGORIES:Conferências
ATTACH;FMTTYPE=image/png:https://debatesediscursos.pt/wp-content/uploads/2026/04/Novas-Medidas-Legislativas-para-a-Habitacao-21-x-29-cm-Post-para-Facebook.png
ORGANIZER;CN="Debates & Discursos%2C Lda":MAILTO:info@debatesediscursos.pt
END:VEVENT
END:VCALENDAR